BEGIN:VCALENDAR
VERSION:2.0
PRODID:-//project/author//NONSGML v1.0//EN
CALSCALE:GREGORIAN
BEGIN:VEVENT
DTSTART:20210915T130000
LOCATION:Dresden, Deutschland
DTEND:20210915T140000
DTSTAMP:20260421T113352
UID:1403
SUMMARY:Energiemanagement in der Produktion
URL;VALUE=URI:
END:VEVENT
END:VCALENDAR