BEGIN:VCALENDAR
VERSION:2.0
PRODID:-//project/author//NONSGML v1.0//EN
CALSCALE:GREGORIAN
BEGIN:VEVENT
DTSTART:20210414T100000
LOCATION:online
DTEND:20210414T113000
DTSTAMP:20260421T113301
UID:1393
SUMMARY:Umsatzsteuer im Online- und Versandhandel
URL;VALUE=URI:
END:VEVENT
END:VCALENDAR