BEGIN:VCALENDAR
VERSION:2.0
PRODID:-//project/author//NONSGML v1.0//EN
CALSCALE:GREGORIAN
BEGIN:VEVENT
DTSTART:20210319T120000
LOCATION:Euroforum Deutschland GmbH, online
DTEND:20210319T130000
DTSTAMP:20260419T202731
UID:1388
SUMMARY:Der stille ePA-Start – Wann passieren wir den Meilenstein des deutschen Gesundheitswesens?
URL;VALUE=URI:
END:VEVENT
END:VCALENDAR