BEGIN:VCALENDAR
VERSION:2.0
PRODID:-//project/author//NONSGML v1.0//EN
CALSCALE:GREGORIAN
BEGIN:VEVENT
DTSTART:20210316T130000
LOCATION:online
DTEND:20210317T163000
DTSTAMP:20260420T202239
UID:1385
SUMMARY:6. Spring Update Medizinproduktekonferenz
URL;VALUE=URI:
END:VEVENT
END:VCALENDAR