BEGIN:VCALENDAR
VERSION:2.0
PRODID:-//project/author//NONSGML v1.0//EN
CALSCALE:GREGORIAN
BEGIN:VEVENT
DTSTART:20210318T100000
LOCATION:online
DTEND:20210318T120000
DTSTAMP:20260419T173222
UID:1382
SUMMARY:MedTech Change - "Digitale Transformation im Gesundheitswesen"
URL;VALUE=URI:
END:VEVENT
END:VCALENDAR