BEGIN:VCALENDAR
VERSION:2.0
PRODID:-//project/author//NONSGML v1.0//EN
CALSCALE:GREGORIAN
BEGIN:VEVENT
DTSTART:20210930T080000
LOCATION:Kunststoff-Zentrum in Leipzig gGmbH, Erich-Zeigner-Allee 44, 04229 Leipzig, Deutschland
DTEND:20210930T170000
DTSTAMP:20260421T124027
UID:1374
SUMMARY:Mikrospritzgießen
URL;VALUE=URI:
END:VEVENT
END:VCALENDAR