BEGIN:VCALENDAR
VERSION:2.0
PRODID:-//project/author//NONSGML v1.0//EN
CALSCALE:GREGORIAN
BEGIN:VEVENT
DTSTART:20210204T090000
LOCATION:online
DTEND:20210205T143000
DTSTAMP:20260419T155703
UID:1358
SUMMARY:Jahrestreffen der ProcessNet-Fachgruppen Extraktion und Membrantechnik
URL;VALUE=URI:
END:VEVENT
END:VCALENDAR