BEGIN:VCALENDAR
VERSION:2.0
PRODID:-//project/author//NONSGML v1.0//EN
CALSCALE:GREGORIAN
BEGIN:VEVENT
DTSTART:20210518T090000
LOCATION:QuoData GmbH Quality & Statistics, Prellerstraße 14, 01309 Dresden, Deutschland
DTEND:20210520T170000
DTSTAMP:20260420T151226
UID:1352
SUMMARY:Web-Seminar for testing laboratories in the field of food microbiology: Validation, verification and determination of measurement uncertainty in microbiology​
URL;VALUE=URI:
END:VEVENT
END:VCALENDAR