BEGIN:VCALENDAR
VERSION:2.0
PRODID:-//project/author//NONSGML v1.0//EN
CALSCALE:GREGORIAN
BEGIN:VEVENT
DTSTART:20210420T090000
LOCATION:QuoData GmbH Quality & Statistics, Prellerstraße 14, 01309 Dresden, Deutschland
DTEND:20210422T170000
DTSTAMP:20260421T113222
UID:1349
SUMMARY:Web-Seminar für die Auswertung von Eignungsprüfungen und Methodenvalidierungsstudien mit PROLab
URL;VALUE=URI:
END:VEVENT
END:VCALENDAR