BEGIN:VCALENDAR
VERSION:2.0
PRODID:-//project/author//NONSGML v1.0//EN
CALSCALE:GREGORIAN
BEGIN:VEVENT
DTSTART:20201203T160000
LOCATION:online
DTEND:20201203T190000
DTSTAMP:20260421T125414
UID:1347
SUMMARY:"Wie kommt das Neue in die Medizin?" Warum es Startups aus der Gesundheitsbranche besonders schwer haben.
URL;VALUE=URI:
END:VEVENT
END:VCALENDAR