BEGIN:VCALENDAR
VERSION:2.0
PRODID:-//project/author//NONSGML v1.0//EN
CALSCALE:GREGORIAN
BEGIN:VEVENT
DTSTART:20201119T170000
LOCATION:online
DTEND:20201119T180000
DTSTAMP:20260419T144059
UID:1341
SUMMARY:Covid-19 - aktuelle Rechtsfragen im Alltag und in der Medizin 
URL;VALUE=URI:
END:VEVENT
END:VCALENDAR