BEGIN:VCALENDAR
VERSION:2.0
PRODID:-//project/author//NONSGML v1.0//EN
CALSCALE:GREGORIAN
BEGIN:VEVENT
DTSTART:20201014T090000
LOCATION:Stadthalle Tuttlingen, Königstraße 37, 78532 Tuttlingen
DTEND:20201014T173000
DTSTAMP:20260420T164332
UID:1308
SUMMARY:Innovation Forum Medizintechnik
URL;VALUE=URI:
END:VEVENT
END:VCALENDAR