BEGIN:VCALENDAR
VERSION:2.0
PRODID:-//project/author//NONSGML v1.0//EN
CALSCALE:GREGORIAN
BEGIN:VEVENT
DTSTART:20201015T124500
LOCATION:online
DTEND:20201016T121500
DTSTAMP:20260420T174735
UID:1307
SUMMARY:Online Conference: Personalising Health Industry
URL;VALUE=URI:
END:VEVENT
END:VCALENDAR