BEGIN:VCALENDAR
VERSION:2.0
PRODID:-//project/author//NONSGML v1.0//EN
CALSCALE:GREGORIAN
BEGIN:VEVENT
DTSTART:20201202T000000
LOCATION:Hochschule Anhalt, Bernburger Str. 55, 06366 Köthen
DTEND:20201203T000000
DTSTAMP:20260421T124128
UID:1304
SUMMARY:Eröffnung des Zentrums für Naturstoff-basierte Therapeutika (ZNT) und 1. Mitteldeutschen Algenstammtisch (MISTA)
URL;VALUE=URI:
END:VEVENT
END:VCALENDAR