BEGIN:VCALENDAR
VERSION:2.0
PRODID:-//project/author//NONSGML v1.0//EN
CALSCALE:GREGORIAN
BEGIN:VEVENT
DTSTART:20201013T090000
LOCATION:online
DTEND:20201013T113000
DTSTAMP:20260420T173306
UID:1301
SUMMARY:Webkonferenz: Digitalisierung in der Diagnostik und Klinik – Chancen und Perspektiven
URL;VALUE=URI:
END:VEVENT
END:VCALENDAR