BEGIN:VCALENDAR
VERSION:2.0
PRODID:-//project/author//NONSGML v1.0//EN
CALSCALE:GREGORIAN
BEGIN:VEVENT
DTSTART:20201014T000000
LOCATION:Online
DTEND:20201016T000000
DTSTAMP:20260422T115509
UID:1300
SUMMARY:Digitales Partnering BioJapan 2020
URL;VALUE=URI:
END:VEVENT
END:VCALENDAR