BEGIN:VCALENDAR
VERSION:2.0
PRODID:-//project/author//NONSGML v1.0//EN
CALSCALE:GREGORIAN
BEGIN:VEVENT
DTSTART:20200903T100000
LOCATION:online
DTEND:20200904T170000
DTSTAMP:20260419T163506
UID:1296
SUMMARY:Unhide The Champions
URL;VALUE=URI:
END:VEVENT
END:VCALENDAR