BEGIN:VCALENDAR
VERSION:2.0
PRODID:-//project/author//NONSGML v1.0//EN
CALSCALE:GREGORIAN
BEGIN:VEVENT
DTSTART:20200923T090000
LOCATION:QuoData GmbH, Prellerstraße 14, 01309 Dresden, Deutschland
DTEND:20200925T170000
DTSTAMP:20260420T135441
UID:1288
SUMMARY:Online-Seminar zur Auswertung von Eignungsprüfungen und Methodenvalidierungsstudien
URL;VALUE=URI:
END:VEVENT
END:VCALENDAR