BEGIN:VCALENDAR
VERSION:2.0
PRODID:-//project/author//NONSGML v1.0//EN
CALSCALE:GREGORIAN
BEGIN:VEVENT
DTSTART:20200723T100000
LOCATION:online
DTEND:20200723T113000
DTSTAMP:20260419T155650
UID:1285
SUMMARY:Online-Seminar „ZIM 2020 – Innovationsnetzwerke als Erfolgsgenerator für Clusterinitiativen“
URL;VALUE=URI:
END:VEVENT
END:VCALENDAR