BEGIN:VCALENDAR
VERSION:2.0
PRODID:-//project/author//NONSGML v1.0//EN
CALSCALE:GREGORIAN
BEGIN:VEVENT
DTSTART:20201026T070000
LOCATION:Digital Event, Digital Event, Digital Event
DTEND:20201029T180000
DTSTAMP:20260422T130957
UID:1283
SUMMARY:BIO-Europe® 2020 Digital - 26th Annual International Partnering Conference
URL;VALUE=URI:
END:VEVENT
END:VCALENDAR