BEGIN:VCALENDAR
VERSION:2.0
PRODID:-//project/author//NONSGML v1.0//EN
CALSCALE:GREGORIAN
BEGIN:VEVENT
DTSTART:20200921T070000
LOCATION:Digital Event, Digital Event, Digital Event
DTEND:20200924T180000
DTSTAMP:20260420T180514
UID:1282
SUMMARY:BioPharm America™ 2020 Digital —13th Annual International Partnering Conference
URL;VALUE=URI:
END:VEVENT
END:VCALENDAR