BEGIN:VCALENDAR
VERSION:2.0
PRODID:-//project/author//NONSGML v1.0//EN
CALSCALE:GREGORIAN
BEGIN:VEVENT
DTSTART:20201116T090000
LOCATION:online
DTEND:20201119T180000
DTSTAMP:20260422T120153
UID:1279
SUMMARY:virtual.MEDICA
URL;VALUE=URI:
END:VEVENT
END:VCALENDAR