BEGIN:VCALENDAR
VERSION:2.0
PRODID:-//project/author//NONSGML v1.0//EN
CALSCALE:GREGORIAN
BEGIN:VEVENT
DTSTART:20200901T090000
LOCATION:Estrel Congress Center Berlin, Sonnenallee 225, 12057 Berlin
DTEND:20201004T123000
DTSTAMP:20260422T115403
UID:1277
SUMMARY:Kongress für Nephrologie - DGfN
URL;VALUE=URI:
END:VEVENT
END:VCALENDAR