BEGIN:VCALENDAR
VERSION:2.0
PRODID:-//project/author//NONSGML v1.0//EN
CALSCALE:GREGORIAN
BEGIN:VEVENT
DTSTART:20200904T083000
LOCATION:online
DTEND:20200904T170000
DTSTAMP:20260420T213504
UID:1276
SUMMARY:Leipziger interaktives Nephrologie-Seminar
URL;VALUE=URI:
END:VEVENT
END:VCALENDAR