BEGIN:VCALENDAR
VERSION:2.0
PRODID:-//project/author//NONSGML v1.0//EN
CALSCALE:GREGORIAN
BEGIN:VEVENT
DTSTART:20200707T150000
LOCATION:Online-Seminar, Deutschland
DTEND:20200707T163000
DTSTAMP:20260419T174233
UID:1267
SUMMARY:VerDiGes Impulsmarker "ZIM Netzwerkphase 2: Wie werden Entwicklungsideen gefördert und umgesetzt"
URL;VALUE=URI:
END:VEVENT
END:VCALENDAR