BEGIN:VCALENDAR
VERSION:2.0
PRODID:-//project/author//NONSGML v1.0//EN
CALSCALE:GREGORIAN
BEGIN:VEVENT
DTSTART:20200701T150000
LOCATION:Online-Seminar, Deutschland
DTEND:20200701T170000
DTSTAMP:20260419T190242
UID:1264
SUMMARY:VerDiGes Impulsmarker „Herausforderungen in unsicheren Zeiten erfolgreich managen"
URL;VALUE=URI:
END:VEVENT
END:VCALENDAR