BEGIN:VCALENDAR
VERSION:2.0
PRODID:-//project/author//NONSGML v1.0//EN
CALSCALE:GREGORIAN
BEGIN:VEVENT
DTSTART:20200623T150000
LOCATION:Online-Seminar, Deutschland
DTEND:20200623T163000
DTSTAMP:20260421T123702
UID:1263
SUMMARY:VerDiGes Impulsmarker „Herausforderungen in unsicheren Zeiten erfolgreich managen“
URL;VALUE=URI:
END:VEVENT
END:VCALENDAR