BEGIN:VCALENDAR
VERSION:2.0
PRODID:-//project/author//NONSGML v1.0//EN
CALSCALE:GREGORIAN
BEGIN:VEVENT
DTSTART:20200610T140000
LOCATION:Dresden, Deutschland
DTEND:20200610T150000
DTSTAMP:20260420T185342
UID:1257
SUMMARY:Predictive Maintenance & datenbasierte Qualitätsüberwachung
URL;VALUE=URI:
END:VEVENT
END:VCALENDAR