BEGIN:VCALENDAR
VERSION:2.0
PRODID:-//project/author//NONSGML v1.0//EN
CALSCALE:GREGORIAN
BEGIN:VEVENT
DTSTART:20200618T090000
LOCATION:BIO CITY LEIPZIG, Deutscher Platz 5c, 04103 Leipzig
DTEND:20200619T170000
DTSTAMP:20260423T104252
UID:1254
SUMMARY:Workshop "Design Thinking"
URL;VALUE=URI:
END:VEVENT
END:VCALENDAR