BEGIN:VCALENDAR
VERSION:2.0
PRODID:-//project/author//NONSGML v1.0//EN
CALSCALE:GREGORIAN
BEGIN:VEVENT
DTSTART:20200701T100000
LOCATION:online
DTEND:20200701T110000
DTSTAMP:20260420T173316
UID:1252
SUMMARY:Shaping the Future of Medical Technologie: Wie Qualität & UDI-Konformität sichergestellt werden können
URL;VALUE=URI:
END:VEVENT
END:VCALENDAR