BEGIN:VCALENDAR
VERSION:2.0
PRODID:-//project/author//NONSGML v1.0//EN
CALSCALE:GREGORIAN
BEGIN:VEVENT
DTSTART:20200610T100000
LOCATION:online
DTEND:20200610T113000
DTSTAMP:20260423T102718
UID:1243
SUMMARY:Online-Seminar "Personal Protective Equipment: The Regulation and its Practical Implementation"
URL;VALUE=URI:
END:VEVENT
END:VCALENDAR