BEGIN:VCALENDAR
VERSION:2.0
PRODID:-//project/author//NONSGML v1.0//EN
CALSCALE:GREGORIAN
BEGIN:VEVENT
DTSTART:20200429T103000
LOCATION:online
DTEND:20200429T120000
DTSTAMP:20260421T125242
UID:1231
SUMMARY:6. Live-Webkonferenz: Corona - Austausch über Herausforderungen für die Branche
URL;VALUE=URI:
END:VEVENT
END:VCALENDAR