BEGIN:VCALENDAR
VERSION:2.0
PRODID:-//project/author//NONSGML v1.0//EN
CALSCALE:GREGORIAN
BEGIN:VEVENT
DTSTART:20200424T130000
LOCATION:online
DTEND:20200424T140000
DTSTAMP:20260421T113245
UID:1228
SUMMARY:5. Live-Webkonferenz: Corona - Austausch über Herausforderungen für die Branche
URL;VALUE=URI:
END:VEVENT
END:VCALENDAR