BEGIN:VCALENDAR
VERSION:2.0
PRODID:-//project/author//NONSGML v1.0//EN
CALSCALE:GREGORIAN
BEGIN:VEVENT
DTSTART:20200512T090000
LOCATION:online
DTEND:20200512T160000
DTSTAMP:20260422T120328
UID:1227
SUMMARY:futureSAX-Matching - Occident Group AG 
URL;VALUE=URI:
END:VEVENT
END:VCALENDAR