BEGIN:VCALENDAR
VERSION:2.0
PRODID:-//project/author//NONSGML v1.0//EN
CALSCALE:GREGORIAN
BEGIN:VEVENT
DTSTART:20200416T153000
LOCATION:online
DTEND:20200416T163000
DTSTAMP:20260422T110558
UID:1226
SUMMARY: 2. Digitales Silicon Saxony Forum - Auswirkungen von COVID-19 auf globale Lieferketten 
URL;VALUE=URI:
END:VEVENT
END:VCALENDAR