BEGIN:VCALENDAR
VERSION:2.0
PRODID:-//project/author//NONSGML v1.0//EN
CALSCALE:GREGORIAN
BEGIN:VEVENT
DTSTART:20200428T100000
LOCATION:Online, Online
DTEND:20200428T150000
DTSTAMP:20260419T150230
UID:1224
SUMMARY:KETBIO Online Marketplace - tech -transfer in industrial biotechnology
URL;VALUE=URI:
END:VEVENT
END:VCALENDAR