BEGIN:VCALENDAR
VERSION:2.0
PRODID:-//project/author//NONSGML v1.0//EN
CALSCALE:GREGORIAN
BEGIN:VEVENT
DTSTART:20200526T090000
LOCATION:Dresden, Deutschland
DTEND:20200526T160000
DTSTAMP:20260423T104217
UID:1220
SUMMARY:Online-Seminar für die Auswertung von Eignungsprüfungen und Methodenvalidierungsstudien mit PROLab -  Teil 3
URL;VALUE=URI:
END:VEVENT
END:VCALENDAR