BEGIN:VCALENDAR
VERSION:2.0
PRODID:-//project/author//NONSGML v1.0//EN
CALSCALE:GREGORIAN
BEGIN:VEVENT
DTSTART:20200327T150000
LOCATION:Web-Konferenz
DTEND:20200327T170000
DTSTAMP:20260422T103752
UID:1212
SUMMARY:2. Live-Webkonferenz: Corona - Austausch über Herausforderungen für die Branche
URL;VALUE=URI:
END:VEVENT
END:VCALENDAR