BEGIN:VCALENDAR
VERSION:2.0
PRODID:-//project/author//NONSGML v1.0//EN
CALSCALE:GREGORIAN
BEGIN:VEVENT
DTSTART:20200909T090000
LOCATION:Zentrum für Regenerative Therapien Dresden (CRTD), Fetscherstraße 105, 01307 Dresden
DTEND:20200909T140000
DTSTAMP:20260419T155842
UID:1211
SUMMARY:4. Life Sciences-Forum Sachsen & 20 Jahre Biotechnologie-Offensive Sachsen
URL;VALUE=URI:
END:VEVENT
END:VCALENDAR