BEGIN:VCALENDAR
VERSION:2.0
PRODID:-//project/author//NONSGML v1.0//EN
CALSCALE:GREGORIAN
BEGIN:VEVENT
DTSTART:20200429T090000
LOCATION:DECHEMA-Haus, Theodor-Heuss-Allee 25, 60486 Frankfurt, Deutschland
DTEND:20200430T170000
DTSTAMP:20260423T102620
UID:1198
SUMMARY:ABSAGE: PRAXISforum Lab of the Future
URL;VALUE=URI:
END:VEVENT
END:VCALENDAR