BEGIN:VCALENDAR
VERSION:2.0
PRODID:-//project/author//NONSGML v1.0//EN
CALSCALE:GREGORIAN
BEGIN:VEVENT
DTSTART:20200319T160000
LOCATION:Hochschule Mittweida, Technikumplatz 17, Gerhard-Neumann Bau, Haus 5, Raum 109A, 09648 Mittweida, Germany
DTEND:20200319T180000
DTSTAMP:20260420T134826
UID:1187
SUMMARY:Abgesagt: Sächsische Transfer Roadshow in Mittweida
URL;VALUE=URI:
END:VEVENT
END:VCALENDAR