BEGIN:VCALENDAR
VERSION:2.0
PRODID:-//project/author//NONSGML v1.0//EN
CALSCALE:GREGORIAN
BEGIN:VEVENT
DTSTART:20201102T090000
LOCATION:PC College, Stresemannstraße 78, Berlin, Deutschland
DTEND:20201105T170000
DTSTAMP:20260422T110945
UID:1173
SUMMARY:DNA Methylation Data Analysis Workshop: How to use bisulfite-treated sequencing to study DNA methylation
URL;VALUE=URI:
END:VEVENT
END:VCALENDAR