BEGIN:VCALENDAR
VERSION:2.0
PRODID:-//project/author//NONSGML v1.0//EN
CALSCALE:GREGORIAN
BEGIN:VEVENT
DTSTART:20200330T090000
LOCATION:Chemnitz, Dresden, Leipzig, Freiberg, Germany
DTEND:20200403T170000
DTSTAMP:20260420T185210
UID:1167
SUMMARY:ABSAGE: Dabei Sein! - Sächsische Außenwirtschaftswoche
URL;VALUE=URI:
END:VEVENT
END:VCALENDAR