BEGIN:VCALENDAR
VERSION:2.0
PRODID:-//project/author//NONSGML v1.0//EN
CALSCALE:GREGORIAN
BEGIN:VEVENT
DTSTART:20200323T073000
LOCATION:Porte de Versailles, Hall 7, 1 Place de la Porte de Versailles, 75015 Paris, France
DTEND:20200325T160000
DTSTAMP:20260420T174756
UID:1163
SUMMARY:Virtual Event: BIO-Europe Spring® 2020 — 14th International Partnering Conference
URL;VALUE=URI:
END:VEVENT
END:VCALENDAR