BEGIN:VCALENDAR
VERSION:2.0
PRODID:-//project/author//NONSGML v1.0//EN
CALSCALE:GREGORIAN
BEGIN:VEVENT
DTSTART:20200201T103000
LOCATION:Dresden International University, Freiberger Str. 37, 01067 Dresden, Deutschland
DTEND:20200201T160000
DTSTAMP:20260421T113606
UID:1161
SUMMARY:DIU LIVE 2020
URL;VALUE=URI:
END:VEVENT
END:VCALENDAR