BEGIN:VCALENDAR
VERSION:2.0
PRODID:-//project/author//NONSGML v1.0//EN
CALSCALE:GREGORIAN
BEGIN:VEVENT
DTSTART:20200130T160000
LOCATION:SimpliOffice, Markgrafenstraße 2, 04109 Leipzig, Germany
DTEND:20200130T210000
DTSTAMP:20260419T174206
UID:1160
SUMMARY:Perspektiven Mitteldeutschland - HealthCare-Immobilien im Wandel
URL;VALUE=URI:
END:VEVENT
END:VCALENDAR