BEGIN:VCALENDAR
VERSION:2.0
PRODID:-//project/author//NONSGML v1.0//EN
CALSCALE:GREGORIAN
BEGIN:VEVENT
DTSTART:20200727T133000
LOCATION:Bad Herrenalb, Deutschland
DTEND:20200730T121500
DTSTAMP:20260422T120248
UID:1154
SUMMARY:ABSAGE: Summer School Biotransformations 2020
URL;VALUE=URI:
END:VEVENT
END:VCALENDAR