BEGIN:VCALENDAR
VERSION:2.0
PRODID:-//project/author//NONSGML v1.0//EN
CALSCALE:GREGORIAN
BEGIN:VEVENT
DTSTART:20191204T170000
LOCATION:BIO CITY Leipzig - Bistro im Erdgeschoss, Deutscher Platz 5, 04103 Leipzig, Deutschland
DTEND:20191204T190000
DTSTAMP:20260423T103605
UID:1151
SUMMARY:Life Science Stammtisch
URL;VALUE=URI:
END:VEVENT
END:VCALENDAR