BEGIN:VCALENDAR
VERSION:2.0
PRODID:-//project/author//NONSGML v1.0//EN
CALSCALE:GREGORIAN
BEGIN:VEVENT
DTSTART:20191205T084500
LOCATION:Staatliches Museum  für Archäologie, Stefan-Heym-Platz 1, 09111 Chemnitz, Deutschland
DTEND:20191205T130000
DTSTAMP:20260422T103712
UID:1148
SUMMARY:eureos-Forum Perspektiven: 2020
URL;VALUE=URI:
END:VEVENT
END:VCALENDAR