BEGIN:VCALENDAR
VERSION:2.0
PRODID:-//project/author//NONSGML v1.0//EN
CALSCALE:GREGORIAN
BEGIN:VEVENT
DTSTART:20191128T084500
LOCATION:The Westin Leipzig, Gerberstraße 15, 04105 Leipzig, Deutschland
DTEND:20191128T130000
DTSTAMP:20260422T212510
UID:1147
SUMMARY:eureos-Forum Perspektiven: 2020
URL;VALUE=URI:
END:VEVENT
END:VCALENDAR